BEGIN:VCALENDAR
VERSION:2.0
PRODID:-//jEvents 2.0 for Joomla//EN
CALSCALE:GREGORIAN
METHOD:PUBLISH
BEGIN:VTIMEZONE
TZID:Europe/Berlin
BEGIN:STANDARD
DTSTART:20131027T020000
RDATE:20140330T030000
TZOFFSETFROM:+0200
TZOFFSETTO:+0100
TZNAME:Europe/Berlin CET
END:STANDARD
BEGIN:STANDARD
DTSTART:20141026T020000
RDATE:20150329T030000
TZOFFSETFROM:+0200
TZOFFSETTO:+0100
TZNAME:Europe/Berlin CET
END:STANDARD
BEGIN:STANDARD
DTSTART:20151025T020000
RDATE:20160327T030000
TZOFFSETFROM:+0200
TZOFFSETTO:+0100
TZNAME:Europe/Berlin CET
END:STANDARD
BEGIN:STANDARD
DTSTART:20161030T020000
RDATE:20170326T030000
TZOFFSETFROM:+0200
TZOFFSETTO:+0100
TZNAME:Europe/Berlin CET
END:STANDARD
BEGIN:STANDARD
DTSTART:20171029T020000
RDATE:20180325T030000
TZOFFSETFROM:+0200
TZOFFSETTO:+0100
TZNAME:Europe/Berlin CET
END:STANDARD
BEGIN:STANDARD
DTSTART:20181028T020000
RDATE:20190331T030000
TZOFFSETFROM:+0200
TZOFFSETTO:+0100
TZNAME:Europe/Berlin CET
END:STANDARD
BEGIN:STANDARD
DTSTART:20191027T020000
RDATE:20200329T030000
TZOFFSETFROM:+0200
TZOFFSETTO:+0100
TZNAME:Europe/Berlin CET
END:STANDARD
BEGIN:STANDARD
DTSTART:20201025T020000
RDATE:20210328T030000
TZOFFSETFROM:+0200
TZOFFSETTO:+0100
TZNAME:Europe/Berlin CET
END:STANDARD
BEGIN:DAYLIGHT
DTSTART:20130710T193000
RDATE:20131027T020000
TZOFFSETFROM:+0100
TZOFFSETTO:+0200
TZNAME:Europe/Berlin CEST
END:DAYLIGHT
BEGIN:DAYLIGHT
DTSTART:20140330T030000
RDATE:20141026T020000
TZOFFSETFROM:+0100
TZOFFSETTO:+0200
TZNAME:Europe/Berlin CEST
END:DAYLIGHT
BEGIN:DAYLIGHT
DTSTART:20150329T030000
RDATE:20151025T020000
TZOFFSETFROM:+0100
TZOFFSETTO:+0200
TZNAME:Europe/Berlin CEST
END:DAYLIGHT
BEGIN:DAYLIGHT
DTSTART:20160327T030000
RDATE:20161030T020000
TZOFFSETFROM:+0100
TZOFFSETTO:+0200
TZNAME:Europe/Berlin CEST
END:DAYLIGHT
BEGIN:DAYLIGHT
DTSTART:20170326T030000
RDATE:20171029T020000
TZOFFSETFROM:+0100
TZOFFSETTO:+0200
TZNAME:Europe/Berlin CEST
END:DAYLIGHT
BEGIN:DAYLIGHT
DTSTART:20180325T030000
RDATE:20181028T020000
TZOFFSETFROM:+0100
TZOFFSETTO:+0200
TZNAME:Europe/Berlin CEST
END:DAYLIGHT
BEGIN:DAYLIGHT
DTSTART:20190331T030000
RDATE:20191027T020000
TZOFFSETFROM:+0100
TZOFFSETTO:+0200
TZNAME:Europe/Berlin CEST
END:DAYLIGHT
BEGIN:DAYLIGHT
DTSTART:20200329T030000
RDATE:20201025T020000
TZOFFSETFROM:+0100
TZOFFSETTO:+0200
TZNAME:Europe/Berlin CEST
END:DAYLIGHT
END:VTIMEZONE
BEGIN:VEVENT
UID:76574c3865c91d2d86555d0b5be03f8b
CATEGORIES:Stammtischtermine
CREATED:19700101T010000
SUMMARY:Stammtisch
LOCATION:wird kurzfristig bekanntgegeben
DESCRIPTION;ENCODING=QUOTED-PRINTABLE:
DTSTAMP:20260422T141254Z
DTSTART;TZID=Europe/Berlin:20140711T193000
SEQUENCE:0
RRULE:FREQ=MONTHLY;UNTIL=20150110T000000Z;INTERVAL=1;BYDAY=+2FR
TRANSP:OPAQUE
END:VEVENT
BEGIN:VEVENT
UID:76574c3865c91d2d86555d0b5be03f8b
CATEGORIES:Stammtischtermine
CREATED:20140629T155245
SUMMARY:Stammtisch
LOCATION:Thomashütte, Eppertshausen - Außerhalb 3
DESCRIPTION;ENCODING=QUOTED-PRINTABLE:<p>Dieser Termin ersetzt den regulären Stammtischtermin, der ein Woche vorh
 er gelegen hatte.</p><p>Die Thomashütte liegt an der K180, von Eppertshause
 n kommend ca 1,5km in Richtung Messel.</p><p>Wer gemeinsam mit dem Moped hi
 nfahren möchte: Treffpunkt ist 19 Uhr beim Harleyshop in Schaafheim.</p>
CONTACT:http://thomashuette.com/

DTSTAMP:20260422T141254Z
DTSTART;TZID=Europe/Berlin:20140815T193000
DTEND;TZID=Europe/Berlin:20140815T150000
RECURRENCE-ID;TZID=Europe/Berlin:20140808T193000
SEQUENCE:0
TRANSP:OPAQUE
END:VEVENT
BEGIN:VEVENT
UID:76574c3865c91d2d86555d0b5be03f8b
CATEGORIES:Stammtischtermine
CREATED:20140629T155245
SUMMARY:Stammtisch
LOCATION:Zur Brezel, Langstadt, Bürgermeisterstr. 2
DESCRIPTION;ENCODING=QUOTED-PRINTABLE:<p>Treffpunkt für gemeinsame Anfahrt:</p><p style="padding-left: 30px;">19 
 Uhr</p><p style="padding-left: 30px;">REWE-Markt Schaafheim</p>
CONTACT:http://www.landhotel-bretzel.de

DTSTAMP:20260422T141254Z
DTSTART;TZID=Europe/Berlin:20140912T193000
DTEND;TZID=Europe/Berlin:20140912T150000
RECURRENCE-ID;TZID=Europe/Berlin:20140912T193000
SEQUENCE:0
TRANSP:OPAQUE
END:VEVENT
BEGIN:VEVENT
UID:76574c3865c91d2d86555d0b5be03f8b
CATEGORIES:Stammtischtermine
CREATED:20140629T155245
SUMMARY:Stammtisch
LOCATION:Wirtshaus zum Odenwald, Groß-Umstadt, Georg-August-Zinn-Str. 2
DESCRIPTION;ENCODING=QUOTED-PRINTABLE:
CONTACT:http://hogosc.de/index.php?option=com_jnews&act=mailing&task=view&mailingid=26

DTSTAMP:20260422T141254Z
DTSTART;TZID=Europe/Berlin:20141010T193000
DTEND;TZID=Europe/Berlin:20141010T150000
RECURRENCE-ID;TZID=Europe/Berlin:20141010T193000
SEQUENCE:0
TRANSP:OPAQUE
END:VEVENT
BEGIN:VEVENT
UID:76574c3865c91d2d86555d0b5be03f8b
CATEGORIES:Stammtischtermine
CREATED:20140629T155245
SUMMARY:KEIN Stammtisch
LOCATION:-
DESCRIPTION;ENCODING=QUOTED-PRINTABLE:<p><strong>Dieser Stammtisch findet nicht statt. Stattdessen besuchen wir m
 orgen den Weihnachtsmarkt in Schaafheim.</strong></p>

DTSTAMP:20260422T141254Z
DTSTART;TZID=Europe/Berlin:20141212T193000
DTEND;TZID=Europe/Berlin:20141212T150000
RECURRENCE-ID;TZID=Europe/Berlin:20141212T193000
SEQUENCE:0
TRANSP:OPAQUE
END:VEVENT
BEGIN:VEVENT
UID:76574c3865c91d2d86555d0b5be03f8b
CATEGORIES:Stammtischtermine
CREATED:20140629T155245
SUMMARY:Stammtisch
LOCATION:Schützenhof, Adelungenstr. 14, Schaafheim
DESCRIPTION;ENCODING=QUOTED-PRINTABLE:
CONTACT:http://www.xn--schtzenhof-schaafheim-bic.de

DTSTAMP:20260422T141254Z
DTSTART;TZID=Europe/Berlin:20150109T193000
DTEND;TZID=Europe/Berlin:20150109T150000
RECURRENCE-ID;TZID=Europe/Berlin:20150109T193000
SEQUENCE:0
TRANSP:OPAQUE
END:VEVENT
END:VCALENDAR