BEGIN:VCALENDAR
VERSION:2.0
PRODID:-//jEvents 2.0 for Joomla//EN
CALSCALE:GREGORIAN
METHOD:PUBLISH
BEGIN:VTIMEZONE
TZID:Europe/Berlin
END:VTIMEZONE
BEGIN:VEVENT
UID:f07239c665e3db2a9284e2d626fc5098
CATEGORIES:Stammtischtermine
CREATED:20251027T210952
SUMMARY:Stammtisch
DESCRIPTION;ENCODING=QUOTED-PRINTABLE:<p>Der nächste Stammtisch findet am 15.11.25 in Schaafheim, Gaststätte "Bes
 tzeit" (ehemaliges Racing House an der Outdoor Cartbahn) um 19:30 statt.</p
 >
DTSTAMP:20260425T141907Z
DTSTART;TZID=Europe/Berlin:20251115T193000
SEQUENCE:0
TRANSP:OPAQUE
END:VEVENT
END:VCALENDAR